BEGIN:VCALENDAR
VERSION:2.0
PRODID:-//Succol Srl - ECPv6.15.20//NONSGML v1.0//EN
CALSCALE:GREGORIAN
METHOD:PUBLISH
X-WR-CALNAME:Succol Srl
X-ORIGINAL-URL:https://www.succol.it
X-WR-CALDESC:Eventi per Succol Srl
REFRESH-INTERVAL;VALUE=DURATION:PT1H
X-Robots-Tag:noindex
X-PUBLISHED-TTL:PT1H
BEGIN:VTIMEZONE
TZID:Europe/Rome
BEGIN:DAYLIGHT
TZOFFSETFROM:+0100
TZOFFSETTO:+0200
TZNAME:CEST
DTSTART:20210328T010000
END:DAYLIGHT
BEGIN:STANDARD
TZOFFSETFROM:+0200
TZOFFSETTO:+0100
TZNAME:CET
DTSTART:20211031T010000
END:STANDARD
BEGIN:DAYLIGHT
TZOFFSETFROM:+0100
TZOFFSETTO:+0200
TZNAME:CEST
DTSTART:20220327T010000
END:DAYLIGHT
BEGIN:STANDARD
TZOFFSETFROM:+0200
TZOFFSETTO:+0100
TZNAME:CET
DTSTART:20221030T010000
END:STANDARD
BEGIN:DAYLIGHT
TZOFFSETFROM:+0100
TZOFFSETTO:+0200
TZNAME:CEST
DTSTART:20230326T010000
END:DAYLIGHT
BEGIN:STANDARD
TZOFFSETFROM:+0200
TZOFFSETTO:+0100
TZNAME:CET
DTSTART:20231029T010000
END:STANDARD
BEGIN:DAYLIGHT
TZOFFSETFROM:+0100
TZOFFSETTO:+0200
TZNAME:CEST
DTSTART:20240331T010000
END:DAYLIGHT
BEGIN:STANDARD
TZOFFSETFROM:+0200
TZOFFSETTO:+0100
TZNAME:CET
DTSTART:20241027T010000
END:STANDARD
END:VTIMEZONE
BEGIN:VEVENT
DTSTART;VALUE=DATE:20230227
DTEND;VALUE=DATE:20230321
DTSTAMP:20260425T043337
CREATED:20220807T191826Z
LAST-MODIFIED:20230404T085151Z
UID:5445-1677456000-1679356799@www.succol.it
SUMMARY:Corso Responsabili Tecnici\, modulo INTERMEDIAZIONE
DESCRIPTION:DESCRIZIONEPROGRAMMA DEGLI INCONTRIDESTINATARITEST E ATTESTATORICHIEDI CORSODESCRIZIONE\nDESCRIZIONE\nIl “corso per Responsabili Tecnici\, modulo INTERMEDIAZIONE – Elementi utili per superare l’esame (completo e di aggiornamento)”\, interamente svolto online\, si propone di formare i professionisti allo svolgimento della verifica di idoneità per l’abilitazione a Responsabile Tecnico\, più specificatamente nel modulo specialistico per categoria 8 – intermediazione e commercio di rifiuti. \nTrovi di seguito maggiori informazioni in merito allo specifico percorso formativo interamente svolto online (sarà possibile seguire gli incontri anche da casa o dal proprio ufficio attraverso la piattaforma Zoom). \nDurante gli incontri saranno svolte esercitazioni sui quiz oggetto d’esame nelle verifiche dell’Albo Gestori Ambientali. \nOBIETTIVI\nLa finalità del percorso formativo è fornire supporto ai discenti per la preparazione alle materie oggetto d’esame di abilitazione per Responsabili Tecnici – modulo di specializzazione per cat. 8. \nCOSTO\nIl costo del presente percorso formativo è di €550 + IVA a partecipante (19 ore di formazione). \nPROGRAMMA DEGLI INCONTRIDESTINATARI\nDESTINATARI\nIl percorso è rivolto a chiunque voglia essere formato sulle materia contenute all’interno dell’Esame per Responsabili Tecnici – modulo di specializzazione di categoria 8. Verranno approfonditi i compiti del Responsabile Tecnico di categoria 8 dell’Albo Nazionale Gestori Ambientali. \nTEST E ATTESTATO\nTEST E ATTESTATO\nAl termine dell’incontro verrà svolto un test di apprendimento finale. \nVerrà rilasciato un attestato di partecipazione ai discenti che avranno frequentato almeno il 70% del monte ore totale. \nRICHIEDI CORSO\nRICHIEDI CORSO\nPer richiedere il corso presso la vostra sede\, contattateci a: formazione@succol.it \nRecensioni\n“In questo corso non si danno mere nozioni\, ma gli strumenti per un approccio pragmatico alla pratica quotidiana della gestione ambientale” \nAlessio Bonetto\, Eco-Ricicli Veritas S.R.L.\n“Il corso\, oltre a dare le dovute informazioni necessarie per una corretta gestione del registro di carico / scarico\, offre anche interessanti spunti e suggerimenti per ulteriori approfondimenti sulla tematica rifiuti. Fortemente consigliato.” \nGiuseppe De Lotto\, Settentrionale Trasporti S.P.A.\n“Docente con ottime competenze sulla materia e grandi capacità di divulgazione; dato l’orario del corso l’attenzione poteva essere non piena\, ma l’esposizione ha consentito un’attenta e duratura partecipazione.” \nFranco Cremon\, ACONS S.R.L.\n“L’approccio proposto da Succol\, interattivo\, impone attenzione e interazione tra le parti. Questo permette all’allievo di apprendere le nozioni in maniera quasi naturale ponendosi\, rispetto alla complessità della materia\, in modo propositivo-costruttivo “ \nPatrizio Cagnin\, Alba Serena Cooperativa Sociale\n“La gestione dei rifiuti è\, a mio avviso\, una tematica complessa e molto articolata. Grazie al docente\, però\, il corso è di facile e piacevole comprensione.” \nAngelica Basso\, Basso S.A.S.\n“Il corso è stato tenuto con chiarezza espositiva e mirato a illustrare le casistiche più plausibili in modo da venire incontro alle diverse esigenze della platea. Sono soddisfatto” \nGiovanni Bertoldo\, Legnago Servizi S.P.A.Modulo di iscrizione
URL:https://www.succol.it/edizione/corso-responsabili-tecnici-modulo-intermediazione-2023/
LOCATION:Online mediante piattaforma Zoom
CATEGORIES:RT modulo intermediazione
ORGANIZER;CN="STUDIO SUCCOL":MAILTO:formazione@succol.it
END:VEVENT
BEGIN:VEVENT
DTSTART;VALUE=DATE:20230215
DTEND;VALUE=DATE:20230324
DTSTAMP:20260425T043337
CREATED:20230206T104758Z
LAST-MODIFIED:20230210T144614Z
UID:5766-1676419200-1679615999@www.succol.it
SUMMARY:Corso HSE Manager - Prima edizione 2023
DESCRIPTION:DESCRIZIONEPROGRAMMA DEGLI INCONTRITEST E ATTESTATOCOSTIRICHIEDI CORSODESCRIZIONE\n\nDESCRIZIONE\nIl corso HSE Manager si propone di formare il personale delle azienda che si occupa di tematiche relative ad ambiente e rifiuti. \nQuesto percorso formativo è utile per maturare i crediti richiesti dalla certificazione per HSE manager ai sensi della norma UNI 11720:2018. \nOBIETTIVI\nLa finalità del percorso formativo è fornire supporto ai discenti in ambito di gestione di tematiche relative ad ambiente e rifiuti (D.lgs. 152/2006) \nPROGRAMMA DEGLI INCONTRI\nPROGRAMMA DEGLI INCONTRI\nMercoledì 15 febbraio 2023 dalle 14 alle 18\nNORMATIVA IN CAMPO AMBIENTALE – RESPONSABILITÀ E CAMPO SANZIONATORIO \n\nQuadro normativo in materia gestione dei rifiuti\nObblighi dei produttori di rifiuti\nResponsabilità estesa del produttore dei rifiuti\nDefinizioni in campo ambientale\nParticolari tipologie di rifiuti\nL’esclusione dal regime dei rifiuti e la disciplina dei sottoprodotti\nAccenni sulle Terre e rocce da scavo\n\nMercoledì 22 febbraio 2023 dalle 14 alle 18\nCLASSIFICAZIONE DEI RIFIUTI\, CODICI CER\, RIFIUTI DA MANUTENZIONE E DEPOSITO TEMPORANEO \n\nClassificazione e caratterizzazione dei rifiuti\nCorretti comportamenti in presenza di codici a specchio\nModalità di assegnazione delle caratteristiche di pericolo\nEtichettatura dei rifiuti e cenni sulla gestione dei rifiuti pericolosi\nLa corretta gestione dei rifiuti da manutenzione\nLa gestione del deposito temporaneo\nVisite ispettive da parte degli organi di controllo\n\nMercoledì 1 marzo 2023 dalle 14 alle 18\nIL TRASPORTO DEI RIFIUTI E RELATIVI DOCUMENTI  – LA CORRETTA COMPILAZIONE DEI FORMULARI \n\nTrasporti su strada dei rifiuti\nLa corretta compilazione dei formulari\nCorrelazione con la tenuta dei registri di carico e scarico\nCenni sulla normativa ADR\n\nMercoledì 8 marzo 2023 dalle 14 alle 18\nLA GESTIONE AMMINISTRATIVA DEI RIFIUTI – REGISTRI DI CARICO E SCARICO\, MUD \n\nObblighi e adempimenti del gestore dei rifiuti: i soggetti tenuti alla compilazione del registro di carico e scarico\nCorretta compilazione dei registri di carico e scarico\nIl MUD\n\nMercoledì 15 marzo 2023 dalle 14 alle 18 \nSCARICHI DELLE ACQUE ED EMISSIONI IN ATMOSFERA \n\nLe “parole chiave” – definizioni di scarico\, acque reflue domestiche\, industriali e urbane\, acque meteoriche\nQuadro normativo nazionale in materia di acque reflue\nQualità delle acque superficiali e sotterranee\nLe acque reflue\, aspetti applicativi:\n\nCompetenza amministrativa\nAutorizzazioni\nLimiti di scarico\, corpi recettori\, divieto di diluizione\nIllustrazione ed esemplificazione della principale casistica autorizzatoria\nRegime autorizzativo per le acque meteoriche\n\n\nDefinizioni e classificazione di inquinamento atmosferico ed emissioni in atmosfera\nQuadro normativo nazionale in materia di emissioni in atmosfera\nGli impianti di abbattimento: cenni sui principi di funzionamento e gli inquinanti abbattuti\nCampionamento ed analisi alle emissioni\nValutazione della conformità del camino e del punto di prelievo\nCenni al piano gestione solventi\nCenni ai sistemi di monitoraggio in continuo alle emissioni in atmosfera\nProcedure di gestione ordinaria e di emergenza\n\nGiovedì 23 marzo dalle 14 alle 18\nAUTORIZZAZIONI AMBIENTALI E CERTIFICAZIONI VOLONTARIE \n\nQuadro di riferimento per le autorizzazioni ambientali\nAutorizzazione Unica Ambientale (AUA) e comunicazioni semplificate per il recupero di rifiuti\nAutorizzazione Integrata Ambientale (AIA)\nValutazione di Impatto Ambientale (VIA)\nCertificazione ambientale ISO 14001\nRegistrazione EMAS\n\nTEST E ATTESTATO\nTEST E ATTESTATO\nAl termine dell’incontro verrà svolto un test di apprendimento finale. \nVerrà rilasciato un attestato di partecipazione ai discenti che avranno superato positivamente il test di apprendimento. \nCOSTI\nCOSTI E SCONTI\nCosto di partecipazione a singolo webinar:\n€130\,00 + IVA a partecipante\nCosto di partecipazione a percorso formativo completo:\n€500\,00 + IVA \nIl versamento deve essere effettuato solo dopo conferma di avvio del percorso formativo e la ricevuta del versamento della quota di partecipazione dovrà essere inviato a mezzo mail all’indirizzo formazione@succol.it \nRICHIEDI CORSO\nRICHIEDI CORSO RISERVATO\nPer richiedere questo corso riservato alla vostra azienda\, mandare una mail a formazione@succol.it indicando i webinar di proprio interesse. \nRecensioni\n“In questo corso non si danno mere nozioni\, ma gli strumenti per un approccio pragmatico alla pratica quotidiana della gestione ambientale” \nAlessio Bonetto\, Eco-Ricicli Veritas S.R.L.\n“Il corso\, oltre a dare le dovute informazioni necessarie per una corretta gestione del registro di carico / scarico\, offre anche interessanti spunti e suggerimenti per ulteriori approfondimenti sulla tematica rifiuti. Fortemente consigliato.” \nGiuseppe De Lotto\, Settentrionale Trasporti S.P.A.\n“L’approccio proposto da Succol\, interattivo\, impone attenzione e interazione tra le parti. Questo permette all’allievo di apprendere le nozioni in maniera quasi naturale ponendosi\, rispetto alla complessità della materia\, in modo propositivo-costruttivo “ \nPatrizio Cagnin\, Alba Serena Cooperativa Sociale\n“La gestione dei rifiuti è\, a mio avviso\, una tematica complessa e molto articolata. Grazie al docente\, però\, il corso è di facile e piacevole comprensione.” \nAngelica Basso\, Basso S.A.S.\n“Il corso è stato tenuto con chiarezza espositiva e mirato a illustrare le casistiche più plausibili in modo da venire incontro alle diverse esigenze della platea. Sono soddisfatto” \nGiovanni Bertoldo\, Legnago Servizi S.P.A.Modulo di iscrizione
URL:https://www.succol.it/edizione/corso-hse-manager-prima-edizione-2023/
LOCATION:Online mediante piattaforma Zoom
ORGANIZER;CN="STUDIO SUCCOL":MAILTO:formazione@succol.it
END:VEVENT
BEGIN:VEVENT
DTSTART;VALUE=DATE:20230117
DTEND;VALUE=DATE:20230222
DTSTAMP:20260425T043337
CREATED:20221121T134348Z
LAST-MODIFIED:20230206T102945Z
UID:5599-1673913600-1677023999@www.succol.it
SUMMARY:Corso Responsabili Tecnici\, modulo BASE
DESCRIPTION:DESCRIZIONEPROGRAMMA DEGLI INCONTRIDESTINATARITEST E ATTESTATORICHIEDI CORSODESCRIZIONE\nDESCRIZIONE\nIl “Corso Responsabili Tecnici\, modulo BASE – Elementi utili per superare la verifica (iniziale e di aggiornamento)”\, interamente svolto online\, si propone di formare tutti gli operatori\, a prescindere dalla loro specifica attività e categoria di iscrizione\, sulle conoscenze comuni finalizzate allo svolgimento delle attività di gestione ambientale. \nIl corso è stato strutturato in funzione a: \n\nDomande previste nell’esame di abilitazione per Responsabili Tecnici\nCompiti del Responsabile Tecnico (come definiti dalla Deliberazione n.1 del 23 gennaio 2019 dell’Albo Nazionale Gestori Ambientali)\n\nIl Corso RT – modulo base costituisce dunque straordinario supporto tecnico a chiunque volesse affrontare l’esame di abilitazione/aggiornamento per Responsabili Tecnici\, oltre a completa formazione di carattere ambientale. \nTrovi di seguito maggiori informazioni in merito allo specifico percorso formativo interamente svolto online (sarà possibile seguire gli incontri anche da casa o dal proprio ufficio attraverso la piattaforma Zoom). \nDurante gli incontri saranno svolte esercitazioni sui quiz oggetto d’esame nelle verifiche dell’Albo Gestori Ambientali. \nOBIETTIVI\nLe finalità del percorso formativo sono: \n\nFornire chiare indicazioni sulle normative vigenti in campo ambientale con particolare riferimento ai compiti del Responsabile Tecnico.\nFornire supporto ai discenti per la preparazione alla verifica iniziale dell’Albo Gestori Ambientali per Responsabili Tecnici\n\nCOSTO\nIl costo del presente percorso formativo è di €800 + IVA a partecipante (27\,5 ore di formazione). \nPROGRAMMA DEGLI INCONTRI\nPROGRAMMA DEGLI INCONTRI\nNOVITÀ: Differentemente dalle precedenti edizioni\, gli incontri di questo percorso formativo verranno svolti in orario mattutino \n\n\n\nMartedì 17 gennaio 2023 dalle 9.30 alle 12.00\nLegislazione rifiuti italiana ed europea\n\n\nGiovedì 19 gennaio 2023 dalle 9.30 alle 12.00\nLegislazione rifiuti italiana ed europea\n\n\nMartedì 24 gennaio 2023 dalle 9.30 alle 12.00\nLegislazione rifiuti italiana ed europea\n\n\nGiovedì 26 gennaio 2023 dalle 9.30 alle 12.00\nLegislazione rifiuti italiana ed europea\n\n\nMartedì 31 gennaio 2023 dalle 9.30 alle 12.00\nLegislazione rifiuti italiana ed europea\n\n\nGiovedì 2 febbraio 2023 dalle 9.30 alle 12.00\nLegislazione rifiuti italiana ed europea\n\n\nMartedì 7 febbraio 2023 dalle 9.30 alle 12.00\nLa corretta compilazione dei formulari\n\n\nGiovedì 9 febbraio 2023 dalle 9.30 alle 12.00\nLa corretta compilazione e gestione dei registri di carico e scarico\n\n\nMartedì 14 febbraio 2023 dalle 9.30 alle 12.00\nCompiti e adempimenti dell’Albo Gestori Ambientali e del Responsabile Tecnico\n\n\nGiovedì 16 febbraio 2023 dalle 9.30 alle 12.00\nCompiti e adempimenti dell’Albo Gestori Ambientali e del Responsabile Tecnico e sicurezza sul lavoro\n\n\nMartedì 21 febbraio 2023 dalle 9.30 alle 12.00\nCertificazioni ambientali\n\n\n\nDESTINATARI\nDESTINATARI\nIl percorso è rivolto a chiunque voglia essere formato sulle materie contenute nel modulo base obbligatorio per tutte le categorie della verifica di idoneità per Responsabili Tecnici. \nQuesto percorso formativo è inoltre indicato per chi voglia ottenere approfonditamente tutte le principali informazioni sulla normativa ambientale ed in particolare sulla gestione dei rifiuti. \nTEST E ATTESTATO\nTEST E ATTESTATO\nAl termine dell’incontro verrà svolto un test di apprendimento finale. \nVerrà rilasciato un attestato di partecipazione ai discenti che avranno frequentato almeno il 70% del monte ore totale. \nRICHIEDI CORSO\nRICHIEDI CORSO\nPer richiedere il corso presso la vostra sede\, contattateci a: formazione@succol.it. \nRecensioni\n“In questo corso non si danno mere nozioni\, ma gli strumenti per un approccio pragmatico alla pratica quotidiana della gestione ambientale” \nAlessio Bonetto\, Eco-Ricicli Veritas S.R.L.\n“Il corso\, oltre a dare le dovute informazioni necessarie per una corretta gestione del registro di carico / scarico\, offre anche interessanti spunti e suggerimenti per ulteriori approfondimenti sulla tematica rifiuti. Fortemente consigliato.” \nGiuseppe De Lotto\, Settentrionale Trasporti S.P.A.\n“Docente con ottime competenze sulla materia e grandi capacità di divulgazione; dato l’orario del corso l’attenzione poteva essere non piena\, ma l’esposizione ha consentito un’attenta e duratura partecipazione.” \nFranco Cremon\, ACONS S.R.L.\n“L’approccio proposto da Succol\, interattivo\, impone attenzione e interazione tra le parti. Questo permette all’allievo di apprendere le nozioni in maniera quasi naturale ponendosi\, rispetto alla complessità della materia\, in modo propositivo-costruttivo “ \nPatrizio Cagnin\, Alba Serena Cooperativa Sociale\n“La gestione dei rifiuti è\, a mio avviso\, una tematica complessa e molto articolata. Grazie al docente\, però\, il corso è di facile e piacevole comprensione.” \nAngelica Basso\, Basso S.A.S.\n“Il corso è stato tenuto con chiarezza espositiva e mirato a illustrare le casistiche più plausibili in modo da venire incontro alle diverse esigenze della platea. Sono soddisfatto” \nGiovanni Bertoldo\, Legnago Servizi S.P.A.Modulo di iscrizione
URL:https://www.succol.it/edizione/corso-responsabili-tecnici-modulo-base-2023-01/
LOCATION:Online mediante piattaforma Zoom
CATEGORIES:RT modulo base
ORGANIZER;CN="STUDIO SUCCOL":MAILTO:formazione@succol.it
END:VEVENT
BEGIN:VEVENT
DTSTART;VALUE=DATE:20221115
DTEND;VALUE=DATE:20221216
DTSTAMP:20260425T043337
CREATED:20220324T144233Z
LAST-MODIFIED:20221207T102302Z
UID:5103-1668470400-1671148799@www.succol.it
SUMMARY:Percorso accademico per addetti alla gestione dei rifiuti
DESCRIPTION:DESCRIZIONEPROGRAMMA DEGLI INCONTRITEST E ATTESTATOCOSTIRICHIEDI CORSODESCRIZIONE\nDESCRIZIONE\nIl percorso formativo principale della nuova ACCADEMIA AMBIENTALE è il Percorso Accademico per Addetti alla gestione di rifiuti.\n\nComposto da 9 incontri online della durata di 2 ore ciascuno\, gli interessati potranno iscriversi ad uno o più incontri secondo il prezziario di seguito riportato\, oppure all’intero percorso formativo ad un prezzo agevolato.\nA CHI È RIVOLTO?\nIl Percorso Accademico per Addetti alla gestione di rifiuti è rivolto a imprese\, professionisti\, studenti universitari e appassionati:\n\n 	con esperienza che vogliano affinare le proprie competenze e aggiornarsi a tutte le ultime novità (soprattutto a seguito dei chiarimenti del D.lgs. 116/2020)\n 	senza esperienza che vogliano comprendere l’intricato mondo della gestione dei rifiuti\, partendo dal concetto di “Rifiuto” e arrivando all’effettiva operatività giornaliera di un gestore di rifiuti\n\nOBIETTIVI\nLa finalità del percorso formativo è fornire supporto ai discenti in ambito di gestione di tematiche relative ad ambiente e rifiuti (D.lgs. 152/2006)\n\nPROGRAMMA DEGLI INCONTRI\nPROGRAMMA DEGLI INCONTRI E ARGOMENTI TRATTATI\nMartedì 15 novembre 2022 dalle 16 alle 18\nGestori di rifiuti: tutelarsi per non rischiare\n\n\n 	Campo sanzionatorio\, responsabilità – Come tutelarsi\n 	Verifica della titolarità dei soggetti gestori (trasportatore\, intermediario\, impianto)\n 	L’omologa dei rifiuti: elemento fondamentale di informazioni e tracciabilità\n\nGiovedì 17 novembre 2022 dalle 16 alle 18\nCER – Dal 2002 ad oggi\n\n\n 	Conoscere i rifiuti e la loro corretta codificazione\n 	La coerenza nel definire le condizioni di pericolo e le metodologie per identificarle\n 	Laboratorio e analisi\, il nostro alleato\n\nMartedì 22 novembre 2022 dalle 16 alle 18\nSai parlare la lingua dei rifiuti? – Definizioni di legge\n\n\n 	Definizioni e loro significato nel contesto dell’interpretazione di legge\n 	La gestione dei materiali\, dei sottoprodotti\, dei rifiuti e delle materie prime secondarie secondo un concetto coerente e applicabile di “gerarchia”\n 	Il mercato è preparato e disponibile a ricevere i sottoprodotti? Vicenda tragicomica tipicamente italiana\n\nGiovedì 24 novembre 2022 dalle 16 alle 18\nArtigiani\, piccoli imprenditori – Il problema quotidiano con i rifiuti da manutenzione\n\n\n 	La gestione dei rifiuti da manutenzione\n 	L’organizzazione del deposito temporaneo\n\nMartedì 29 novembre 2022 dalle 16 alle 18\nRecupero o smaltimento – Il calvario delle autorizzazioni\n\n\n 	Ciclo integrato dei rifiuti\n 	Processo di autorizzazione degli impianti\n\nGiovedì 1 dicembre 2022 dalle 16 alle 18\nFormulari – Cornucopia di informazioni\n\n\n 	Informazioni sui contenuti e sulle conseguenze di una compilazione superficiale\n 	Analisi delle disposizioni ministeriali (DM 145/98\, Circolare GAB/812/DEC\, D.lgs. 152/2006)\n\nMartedì 6 dicembre 2022 dalle 16 alle 18\nLa contabilità dei rifiuti – Registri di carico e scarico\, MUD\n\n\n 	Analisi della struttura e delle informazioni previste nei registri di carico e scarico\n 	Soggetti obbligati ed esenzioni\n 	Modalità e temporalità di compilazione\n 	Introduzione al RENTRI\n\nMartedì 13 dicembre 2022 dalle 16 alle 18\nTerre e Rocce da Scavo\, gestione dei sottoprodotti. Uno scavo\, mille problemi\n\n\n 	Analisi normativa\n 	Indicazioni operative per gli addetti ai lavori\n\nGiovedì 15 dicembre 2022 dalle 16 alle 18\nAlbo Gestori Ambientali. Il punto dopo 23 anni di attività\n\n\n 	Categorie e classi alla luce dei recenti Decreti\n 	Oneri del Responsabile Tecnico\n\n \n\nTEST E ATTESTATO\nTEST E ATTESTATO\nAl termine di ogni webinar è previsto un test di apprendimento finale.\n\nVerrà rilasciato attestato di partecipazione e superamento del corso a tutti coloro che avranno risposto correttamente ad almeno il 60% delle domande.\n\nCOSTI\nCOSTI E SCONTI\nCosto di partecipazione a singolo webinar:\n€100\,00 + IVA a partecipante\nCosto per il percorso completo (9 incontri):\n€800\,00 + IVA a partecipante\n\nIl versamento deve essere effettuato solo dopo conferma di avvio del percorso formativo e la ricevuta del versamento della quota di partecipazione dovrà essere inviato a mezzo mail all’indirizzo formazione@succol.it\n\nRICHIEDI CORSO\nRICHIEDI CORSO\nPer richiedere il corso riservato alla vostra azienda\, contattateci a formazione@succol.it\n\nRecensioni\n\n“In questo corso non si danno mere nozioni\, ma gli strumenti per un approccio pragmatico alla pratica quotidiana della gestione ambientale”\n\nAlessio Bonetto\, Eco-Ricicli Veritas S.R.L.\n\n“Il corso\, oltre a dare le dovute informazioni necessarie per una corretta gestione del registro di carico / scarico\, offre anche interessanti spunti e suggerimenti per ulteriori approfondimenti sulla tematica rifiuti. Fortemente consigliato.”\n\nGiuseppe De Lotto\, Settentrionale Trasporti S.P.A.\n\n“Docente con ottime competenze sulla materia e grandi capacità di divulgazione; dato l’orario del corso l’attenzione poteva essere non piena\, ma l’esposizione ha consentito un’attenta e duratura partecipazione.”\n\nFranco Cremon\, ACONS S.R.L.\n\n“L’approccio proposto da Succol\, interattivo\, impone attenzione e interazione tra le parti. Questo permette all’allievo di apprendere le nozioni in maniera quasi naturale ponendosi\, rispetto alla complessità della materia\, in modo propositivo-costruttivo “\n\nPatrizio Cagnin\, Alba Serena Cooperativa Sociale\n\n“La gestione dei rifiuti è\, a mio avviso\, una tematica complessa e molto articolata. Grazie al docente\, però\, il corso è di facile e piacevole comprensione.”\n\nAngelica Basso\, Basso S.A.S.\n\n“Il corso è stato tenuto con chiarezza espositiva e mirato a illustrare le casistiche più plausibili in modo da venire incontro alle diverse esigenze della platea. Sono soddisfatto”\n\nGiovanni Bertoldo\, Legnago Servizi S.P.A.Modulo di iscrizione
URL:https://www.succol.it/edizione/percorso-accademico-per-addetti-alla-gestione-dei-rifiuti-2/
LOCATION:Online mediante piattaforma Zoom
CATEGORIES:Assegnazione codici CER,Formulari trasporto rifiuti,Io gestisco rifiuti,Registri di carico scarico rifiuti,Rifiuti da demolizione e manutenzione,Terre e rocce da scavo
ORGANIZER;CN="STUDIO SUCCOL":MAILTO:formazione@succol.it
END:VEVENT
END:VCALENDAR